BEGIN:VCALENDAR
VERSION:2.0
PRODID:-//https://calenda-formation.labocleo.org
X-WR-CALNAME:Calenda
X-WR-TIMEZONE:Europe/Paris
CALSCALE:GREGORIAN
X-WR-CALDESC:The calendar for arts, humanities and social sciences
METHOD:PUBLISH
BEGIN:VEVENT
DTSTART;VALUE=DATE:20090601
DTEND;VALUE=DATE:20090602
UID:196854-20090601@calenda.revues.org
SUMMARY:La politique informelle en France et en Europe (XIXe-XXIe siècle)
URL:https://calenda-formation.labocleo.org/196854
DESCRIPTION:À l’heure où l’interdisciplinarité est érigée en modèle d’intelligibilité des objets soumis à une analyse scientifique\, cette rencontre vise à une confrontation des points de vue entre politistes\, historiens\, anthropologues et sociologues du politiqu… @plus_info https://calenda-formation.labocleo.org/196854
LOCATION:Lorient
END:VEVENT
END:VCALENDAR
