BEGIN:VCALENDAR
VERSION:2.0
PRODID:-//https://calenda-formation.labocleo.org
X-WR-CALNAME:Calenda
X-WR-TIMEZONE:Europe/Paris
CALSCALE:GREGORIAN
X-WR-CALDESC:The calendar for arts, humanities and social sciences
METHOD:PUBLISH
BEGIN:VEVENT
DTSTART;VALUE=DATE:20090601
DTEND;VALUE=DATE:20090602
UID:196855-20090601@calenda.revues.org
SUMMARY:Quand les revues dessinent des territoires
URL:https://calenda-formation.labocleo.org/196855
DESCRIPTION:Tandis que les supports périodiques de la production scientifique connaissent de profondes mutations\, matérielles en particulier\, que nombre de revues mettent en ligne l’ensemble de leurs publications passées\, et alors qu’un horizon concurrentiel acc… @plus_info https://calenda-formation.labocleo.org/196855
LOCATION:
END:VEVENT
END:VCALENDAR
