BEGIN:VCALENDAR
VERSION:2.0
PRODID:-//https://calenda-formation.labocleo.org
X-WR-CALNAME:Calenda
X-WR-TIMEZONE:Europe/Paris
CALSCALE:GREGORIAN
X-WR-CALDESC:Le calendrier des lettres et sciences humaines et sociales
METHOD:PUBLISH
BEGIN:VEVENT
DTSTART;VALUE=DATE:20090415
DTEND;VALUE=DATE:20090416
UID:196858-20090415@calenda.revues.org
SUMMARY:La paix des Pyrénées et son impact en Lorraine et au Luxembourg
URL:https://calenda-formation.labocleo.org/196858
DESCRIPTION:Du 6 au 7 novembre 2009\, le Musée d'Histoire de la Ville de Luxembourg propose un colloque qui a pour objectif d'étudier l'impact du traité des Pyrénées dans les territoires qui forment aujourd'hui la Grande Région Sarre-Lorraine-Luxembourg. Les comm… Weitere Informationen https://calenda-formation.labocleo.org/196858
LOCATION:Luxemburg
END:VEVENT
END:VCALENDAR
