BEGIN:VCALENDAR
VERSION:2.0
PRODID:-//https://calenda-formation.labocleo.org
X-WR-CALNAME:Calenda
X-WR-TIMEZONE:Europe/Paris
CALSCALE:GREGORIAN
X-WR-CALDESC:The calendar for arts, humanities and social sciences
METHOD:PUBLISH
BEGIN:VEVENT
DTSTART;VALUE=DATE:20090513
DTEND;VALUE=DATE:20090514
UID:196870-20090513@calenda.revues.org
SUMMARY:Corps agissant - monde parlant
URL:https://calenda-formation.labocleo.org/196870
DESCRIPTION:Journée interdisciplinaire de conférences publiques avec questions réunissant des physiologistes\, des linguistes et des philosophes pour l'interprétation des données récentes sur les bases cérébrales de la perception de la parole et la discussion de … @plus_info https://calenda-formation.labocleo.org/196870
LOCATION:Paris
END:VEVENT
END:VCALENDAR
