BEGIN:VCALENDAR
VERSION:2.0
PRODID:-//https://calenda-formation.labocleo.org
X-WR-CALNAME:Calenda
X-WR-TIMEZONE:Europe/Paris
CALSCALE:GREGORIAN
X-WR-CALDESC:The calendar for arts, humanities and social sciences
METHOD:PUBLISH
BEGIN:VEVENT
DTSTART;VALUE=DATE:20090501
DTEND;VALUE=DATE:20090502
UID:196894-20090501@calenda.revues.org
SUMMARY:Migrations féminines en Méditerranée : enjeux et perspectives
URL:https://calenda-formation.labocleo.org/196894
DESCRIPTION:Le Centre d’études et de recherche sur la migration internationale et le développement durable (CERMID) organise un colloque international sur « Migrations féminines en Méditerranée : enjeux et perspectives ? »\, qui se tiendra du 27-28 novembre 2009\,… @plus_info https://calenda-formation.labocleo.org/196894
LOCATION:Casablanca
END:VEVENT
END:VCALENDAR
