BEGIN:VCALENDAR
VERSION:2.0
PRODID:-//https://calenda-formation.labocleo.org
X-WR-CALNAME:Calenda
X-WR-TIMEZONE:Europe/Paris
CALSCALE:GREGORIAN
X-WR-CALDESC:O calendário de letras e de ciências sociais e humanas
METHOD:PUBLISH
BEGIN:VEVENT
DTSTART;VALUE=DATE:20090415
DTEND;VALUE=DATE:20090416
UID:196909-20090415@calenda.revues.org
SUMMARY:La violence dans tous ses états (deuxième journée)
URL:https://calenda-formation.labocleo.org/196909
DESCRIPTION:Il s'agit de la suite de la première journée d'études qui s'est tenue le 17 décembre dernier sur la thématique de la violence. L'objectif de cette seconde journée est de compléter et d'enrichir les apports de la première jour\,née d'étude grâce aux re… @plus_info https://calenda-formation.labocleo.org/196909
LOCATION:Aix-en-Provence
END:VEVENT
END:VCALENDAR
