BEGIN:VCALENDAR
VERSION:2.0
PRODID:-//https://calenda-formation.labocleo.org
X-WR-CALNAME:Calenda
X-WR-TIMEZONE:Europe/Paris
CALSCALE:GREGORIAN
X-WR-CALDESC:The calendar for arts, humanities and social sciences
METHOD:PUBLISH
BEGIN:VEVENT
DTSTART;VALUE=DATE:20090526
DTEND;VALUE=DATE:20090527
UID:197072-20090526@calenda.revues.org
SUMMARY:Fins et confins du tourisme
URL:https://calenda-formation.labocleo.org/197072
DESCRIPTION:Les sociétés et territoires contemporains sont profondément marqués par une recomposition de l’ordre moderne basé sur la division entre les espaces\, les temps et les pratiques de l’ « ici » (ville\, quotidien\, travail) et de l’« ailleurs » (campagne-m… @plus_info https://calenda-formation.labocleo.org/197072
LOCATION:Grenoble
END:VEVENT
BEGIN:VEVENT
DTSTART;VALUE=DATE:20090527
DTEND;VALUE=DATE:20090528
UID:197072-20090527@calenda.revues.org
SUMMARY:Fins et confins du tourisme
URL:https://calenda-formation.labocleo.org/197072
DESCRIPTION:Les sociétés et territoires contemporains sont profondément marqués par une recomposition de l’ordre moderne basé sur la division entre les espaces\, les temps et les pratiques de l’ « ici » (ville\, quotidien\, travail) et de l’« ailleurs » (campagne-m… @plus_info https://calenda-formation.labocleo.org/197072
LOCATION:Grenoble
END:VEVENT
END:VCALENDAR
