BEGIN:VCALENDAR
VERSION:2.0
PRODID:-//https://calenda-formation.labocleo.org
X-WR-CALNAME:Calenda
X-WR-TIMEZONE:Europe/Paris
CALSCALE:GREGORIAN
X-WR-CALDESC:Le calendrier des lettres et sciences humaines et sociales
METHOD:PUBLISH
BEGIN:VEVENT
DTSTART;VALUE=DATE:20090514
DTEND;VALUE=DATE:20090515
UID:197115-20090514@calenda.revues.org
SUMMARY:Evrart de Conty et la vie intellectuelle à la cour de Charles V
URL:https://calenda-formation.labocleo.org/197115
DESCRIPTION:Les traductions françaises à la cour de Charles V ont donné lieu à un renouvellement des recherches depuis une vingtaine d’années et ont\, entre autres\, mis en valeur la place et le rôle d’Evrart de Conty\, médecin et traducteur\, médiateur de la pensée… @plus_info https://calenda-formation.labocleo.org/197115
LOCATION:Paris
END:VEVENT
BEGIN:VEVENT
DTSTART;VALUE=DATE:20090515
DTEND;VALUE=DATE:20090516
UID:197115-20090515@calenda.revues.org
SUMMARY:Evrart de Conty et la vie intellectuelle à la cour de Charles V
URL:https://calenda-formation.labocleo.org/197115
DESCRIPTION:Les traductions françaises à la cour de Charles V ont donné lieu à un renouvellement des recherches depuis une vingtaine d’années et ont\, entre autres\, mis en valeur la place et le rôle d’Evrart de Conty\, médecin et traducteur\, médiateur de la pensée… @plus_info https://calenda-formation.labocleo.org/197115
LOCATION:Paris
END:VEVENT
BEGIN:VEVENT
DTSTART;VALUE=DATE:20090516
DTEND;VALUE=DATE:20090517
UID:197115-20090516@calenda.revues.org
SUMMARY:Evrart de Conty et la vie intellectuelle à la cour de Charles V
URL:https://calenda-formation.labocleo.org/197115
DESCRIPTION:Les traductions françaises à la cour de Charles V ont donné lieu à un renouvellement des recherches depuis une vingtaine d’années et ont\, entre autres\, mis en valeur la place et le rôle d’Evrart de Conty\, médecin et traducteur\, médiateur de la pensée… @plus_info https://calenda-formation.labocleo.org/197115
LOCATION:Paris
END:VEVENT
END:VCALENDAR
