BEGIN:VCALENDAR
VERSION:2.0
PRODID:-//https://calenda-formation.labocleo.org
X-WR-CALNAME:Calenda
X-WR-TIMEZONE:Europe/Paris
CALSCALE:GREGORIAN
X-WR-CALDESC:Le calendrier des lettres et sciences humaines et sociales
METHOD:PUBLISH
BEGIN:VEVENT
DTSTART;VALUE=DATE:20090623
DTEND;VALUE=DATE:20090624
UID:197133-20090623@calenda.revues.org
SUMMARY:Débordements\, nuisances et risques industriels
URL:https://calenda-formation.labocleo.org/197133
DESCRIPTION:Dans le cadre du programme de recherches Cdhte-Pirve 997 : « Débordements des activités industrielles dans la cité. Études de conflits et d’interventions publiques aux XIXe et XXe siècles »\, une journée d’étude propose le 23 juin 2009 au Cnam d’expos… Más informaciones https://calenda-formation.labocleo.org/197133
LOCATION:París
END:VEVENT
END:VCALENDAR
