BEGIN:VCALENDAR
VERSION:2.0
PRODID:-//https://calenda-formation.labocleo.org
X-WR-CALNAME:Calenda
X-WR-TIMEZONE:Europe/Paris
CALSCALE:GREGORIAN
X-WR-CALDESC:The calendar for arts, humanities and social sciences
METHOD:PUBLISH
BEGIN:VEVENT
DTSTART;VALUE=DATE:20090514
DTEND;VALUE=DATE:20090515
UID:197135-20090514@calenda.revues.org
SUMMARY:L'essor de la « société civile » dans le monde musulman contemporain
URL:https://calenda-formation.labocleo.org/197135
DESCRIPTION:D’où vient cette intense demande de « citoyenneté » qui monte des sociétés à majorité musulmane et qui se manifeste par l’essor sans précédent d’un mouvement associatif qui s’organise par le bas et apparaît aujourd’hui bien ancré dans l’espace public… @plus_info https://calenda-formation.labocleo.org/197135
LOCATION:Rome
END:VEVENT
BEGIN:VEVENT
DTSTART;VALUE=DATE:20090515
DTEND;VALUE=DATE:20090516
UID:197135-20090515@calenda.revues.org
SUMMARY:L'essor de la « société civile » dans le monde musulman contemporain
URL:https://calenda-formation.labocleo.org/197135
DESCRIPTION:D’où vient cette intense demande de « citoyenneté » qui monte des sociétés à majorité musulmane et qui se manifeste par l’essor sans précédent d’un mouvement associatif qui s’organise par le bas et apparaît aujourd’hui bien ancré dans l’espace public… @plus_info https://calenda-formation.labocleo.org/197135
LOCATION:Rome
END:VEVENT
BEGIN:VEVENT
DTSTART;VALUE=DATE:20090516
DTEND;VALUE=DATE:20090517
UID:197135-20090516@calenda.revues.org
SUMMARY:L'essor de la « société civile » dans le monde musulman contemporain
URL:https://calenda-formation.labocleo.org/197135
DESCRIPTION:D’où vient cette intense demande de « citoyenneté » qui monte des sociétés à majorité musulmane et qui se manifeste par l’essor sans précédent d’un mouvement associatif qui s’organise par le bas et apparaît aujourd’hui bien ancré dans l’espace public… @plus_info https://calenda-formation.labocleo.org/197135
LOCATION:Rome
END:VEVENT
END:VCALENDAR
