BEGIN:VCALENDAR
VERSION:2.0
PRODID:-//https://calenda-formation.labocleo.org
X-WR-CALNAME:Calenda
X-WR-TIMEZONE:Europe/Paris
CALSCALE:GREGORIAN
X-WR-CALDESC:O calendário de letras e de ciências sociais e humanas
METHOD:PUBLISH
BEGIN:VEVENT
DTSTART;VALUE=DATE:20090515
DTEND;VALUE=DATE:20090516
UID:197157-20090515@calenda.revues.org
SUMMARY:Les monstres qui parlent
URL:https://calenda-formation.labocleo.org/197157
DESCRIPTION:Relevant du domaine de l'écart\, de ce qui détonne\, le monstre questionne tout en s'inscrivant dans notre inconscient collectif. Part d'ombre ou part d'imaginaire\, il engendre la diversité voire la différence et est source d'innombrables représentatio… @plus_info https://calenda-formation.labocleo.org/197157
LOCATION:Estrasburgo
END:VEVENT
BEGIN:VEVENT
DTSTART;VALUE=DATE:20090516
DTEND;VALUE=DATE:20090517
UID:197157-20090516@calenda.revues.org
SUMMARY:Les monstres qui parlent
URL:https://calenda-formation.labocleo.org/197157
DESCRIPTION:Relevant du domaine de l'écart\, de ce qui détonne\, le monstre questionne tout en s'inscrivant dans notre inconscient collectif. Part d'ombre ou part d'imaginaire\, il engendre la diversité voire la différence et est source d'innombrables représentatio… @plus_info https://calenda-formation.labocleo.org/197157
LOCATION:Estrasburgo
END:VEVENT
END:VCALENDAR
