BEGIN:VCALENDAR
VERSION:2.0
PRODID:-//https://calenda-formation.labocleo.org
X-WR-CALNAME:Calenda
X-WR-TIMEZONE:Europe/Paris
CALSCALE:GREGORIAN
X-WR-CALDESC:The calendar for arts, humanities and social sciences
METHOD:PUBLISH
BEGIN:VEVENT
DTSTART;VALUE=DATE:20090915
DTEND;VALUE=DATE:20090916
UID:197170-20090915@calenda.revues.org
SUMMARY:Quatrième numéro de la revue « Communication\, lettres et sciences du langage »
URL:https://calenda-formation.labocleo.org/197170
DESCRIPTION:Le comité éditorial de « Communication\, lettres et sciences du langage » prépare actuellement le quatrième numéro de la revue\, qui sera publié au début de février 2010.          « Communication\, lettres et sciences du langage » est une revue scientif… @plus_info https://calenda-formation.labocleo.org/197170
LOCATION:Sherbrooke
END:VEVENT
END:VCALENDAR
