BEGIN:VCALENDAR
VERSION:2.0
PRODID:-//https://calenda-formation.labocleo.org
X-WR-CALNAME:Calenda
X-WR-TIMEZONE:Europe/Paris
CALSCALE:GREGORIAN
X-WR-CALDESC:Le calendrier des lettres et sciences humaines et sociales
METHOD:PUBLISH
BEGIN:VEVENT
DTSTART;VALUE=DATE:20090528
DTEND;VALUE=DATE:20090529
UID:197186-20090528@calenda.revues.org
SUMMARY:Construire les jeux vidéo comme objet de recherche : problématiques\, enjeux et méthodes
URL:https://calenda-formation.labocleo.org/197186
DESCRIPTION:Le laboratoire junior « Jeux vidéo : pratiques\, contenus\, discours » organise sa journée d’étude sur le thème : « Construire les jeux vidéo comme objet de recherche : problématiques\, enjeux et méthodes ». Elle aura lieu le jeudi 28 mai 2009 (9h-18h) … @plus_info https://calenda-formation.labocleo.org/197186
LOCATION:Lyon
END:VEVENT
END:VCALENDAR
