BEGIN:VCALENDAR
VERSION:2.0
PRODID:-//https://calenda-formation.labocleo.org
X-WR-CALNAME:Calenda
X-WR-TIMEZONE:Europe/Paris
CALSCALE:GREGORIAN
X-WR-CALDESC:Le calendrier des lettres et sciences humaines et sociales
METHOD:PUBLISH
BEGIN:VEVENT
DTSTART;VALUE=DATE:20090529
DTEND;VALUE=DATE:20090530
UID:197195-20090529@calenda.revues.org
SUMMARY:Enseignement et transmission : la question des harkis\, entre histoire coloniale et immigration post-coloniale
URL:https://calenda-formation.labocleo.org/197195
DESCRIPTION:Cette journée est organisée par la Cité nationale de l'histoire de l'immigration\, l'Institut national de recherches pédagogiques et l'association Harkis et droits de l'homme. Elle se tiendra le 29 mai 2009 à la CNHI (Paris 12e). Il s'agit d'une journ… Más informaciones https://calenda-formation.labocleo.org/197195
LOCATION:París
END:VEVENT
END:VCALENDAR
