BEGIN:VCALENDAR
VERSION:2.0
PRODID:-//https://calenda-formation.labocleo.org
X-WR-CALNAME:Calenda
X-WR-TIMEZONE:Europe/Paris
CALSCALE:GREGORIAN
X-WR-CALDESC:Le calendrier des lettres et sciences humaines et sociales
METHOD:PUBLISH
BEGIN:VEVENT
DTSTART;VALUE=DATE:20090704
DTEND;VALUE=DATE:20090705
UID:197228-20090704@calenda.revues.org
SUMMARY:Nommer l'Amérique latine dans ses relations internationales\, des indépendances à nos jours
URL:https://calenda-formation.labocleo.org/197228
DESCRIPTION:Nous proposons une réflexion pluridisciplinaire autour des dénominations de l'Amérique Latine indépendante\, celles du sous-continent lui-même\, mais aussi celles qui sont appliquées à ses relations internationales\, dans les champs de la diplomatie pol… @plus_info https://calenda-formation.labocleo.org/197228
LOCATION:Paris
END:VEVENT
END:VCALENDAR
