BEGIN:VCALENDAR
VERSION:2.0
PRODID:-//https://calenda-formation.labocleo.org
X-WR-CALNAME:Calenda
X-WR-TIMEZONE:Europe/Paris
CALSCALE:GREGORIAN
X-WR-CALDESC:The calendar for arts, humanities and social sciences
METHOD:PUBLISH
BEGIN:VEVENT
DTSTART;VALUE=DATE:20090630
DTEND;VALUE=DATE:20090701
UID:197233-20090630@calenda.revues.org
SUMMARY:Nouveaux chrétiens\, nouvelles chrétientés dans les Amériques (XVIe-XIXe siècle)
URL:https://calenda-formation.labocleo.org/197233
DESCRIPTION:En ces temps de globalisation\, où tout est censé se mélanger et se métisser et alors même que les particularismes ethniques et religieux s’expriment fréquemment avec violence\, il semble utile de tenter de comprendre comment se sont exprimées dès le X… @plus_info https://calenda-formation.labocleo.org/197233
LOCATION:Nanterre
END:VEVENT
END:VCALENDAR
