BEGIN:VCALENDAR
VERSION:2.0
PRODID:-//https://calenda-formation.labocleo.org
X-WR-CALNAME:Calenda
X-WR-TIMEZONE:Europe/Paris
CALSCALE:GREGORIAN
X-WR-CALDESC:The calendar for arts, humanities and social sciences
METHOD:PUBLISH
BEGIN:VEVENT
DTSTART;VALUE=DATE:20090608
DTEND;VALUE=DATE:20090609
UID:197249-20090608@calenda.revues.org
SUMMARY:L’accès à la terre et ses usages : variations internationales
URL:https://calenda-formation.labocleo.org/197249
DESCRIPTION:Le Congrès a pour ambition de mettre en évidence la diversité des politiques foncières mises en œuvre dans les différentes parties du monde\, ainsi que les spécificités des régimes fonciers dans les différents systèmes juridiques\, sous l'angle de la d… @plus_info https://calenda-formation.labocleo.org/197249
LOCATION:Nantes
END:VEVENT
BEGIN:VEVENT
DTSTART;VALUE=DATE:20090609
DTEND;VALUE=DATE:20090610
UID:197249-20090609@calenda.revues.org
SUMMARY:L’accès à la terre et ses usages : variations internationales
URL:https://calenda-formation.labocleo.org/197249
DESCRIPTION:Le Congrès a pour ambition de mettre en évidence la diversité des politiques foncières mises en œuvre dans les différentes parties du monde\, ainsi que les spécificités des régimes fonciers dans les différents systèmes juridiques\, sous l'angle de la d… @plus_info https://calenda-formation.labocleo.org/197249
LOCATION:Nantes
END:VEVENT
END:VCALENDAR
