BEGIN:VCALENDAR
VERSION:2.0
PRODID:-//https://calenda-formation.labocleo.org
X-WR-CALNAME:Calenda
X-WR-TIMEZONE:Europe/Paris
CALSCALE:GREGORIAN
X-WR-CALDESC:Le calendrier des lettres et sciences humaines et sociales
METHOD:PUBLISH
BEGIN:VEVENT
DTSTART;VALUE=DATE:20091001
DTEND;VALUE=DATE:20091002
UID:197267-20091001@calenda.revues.org
SUMMARY:Méthodes\, approches et thèmes des recherches actuelles sur les arts visuels au Moyen-Orient et au Maghreb
URL:https://calenda-formation.labocleo.org/197267
DESCRIPTION:Dans le champ qui nous occupe\, le cadre de travail offert aux chercheurs reste souvent très peu performant\, comme le montrent les choix qui s’ouvrent aux doctorants. Seuls quelques rares enseignements tiennent compte d’un phénomène qui caractérise po… Weitere Informationen https://calenda-formation.labocleo.org/197267
LOCATION:Barcelona
END:VEVENT
END:VCALENDAR
