BEGIN:VCALENDAR
VERSION:2.0
PRODID:-//https://calenda-formation.labocleo.org
X-WR-CALNAME:Calenda
X-WR-TIMEZONE:Europe/Paris
CALSCALE:GREGORIAN
X-WR-CALDESC:Le calendrier des lettres et sciences humaines et sociales
METHOD:PUBLISH
BEGIN:VEVENT
DTSTART;VALUE=DATE:20090624
DTEND;VALUE=DATE:20090625
UID:197295-20090624@calenda.revues.org
SUMMARY:Dialogues polyglottes avec l'au-delà
URL:https://calenda-formation.labocleo.org/197295
DESCRIPTION:Une équipe internationale et interdisciplinaire se réunit autour des traductions en langues vernaculaires du De Spiritu Guidonis\, fameux dialogue entre un revenant nommé Gui de Corvo\, citoyen d'Alès\, et le prieur du couvent dominicain de cette ville\,… Weitere Informationen https://calenda-formation.labocleo.org/197295
LOCATION:Paris
END:VEVENT
END:VCALENDAR
