BEGIN:VCALENDAR
VERSION:2.0
PRODID:-//https://calenda-formation.labocleo.org
X-WR-CALNAME:Calenda
X-WR-TIMEZONE:Europe/Paris
CALSCALE:GREGORIAN
X-WR-CALDESC:Le calendrier des lettres et sciences humaines et sociales
METHOD:PUBLISH
BEGIN:VEVENT
DTSTART;VALUE=DATE:20090611
DTEND;VALUE=DATE:20090612
UID:197305-20090611@calenda.revues.org
SUMMARY:Gendering the Biographical in the History of the Sciences
URL:https://calenda-formation.labocleo.org/197305
DESCRIPTION:Partant du constat que les vies des savants ont une historicité qui informe sur la production des savoirs\, nous explorerons le rôle du genre dans le contexte de la biographie scientifique. … Más informaciones https://calenda-formation.labocleo.org/197305
LOCATION:París
END:VEVENT
END:VCALENDAR
