BEGIN:VCALENDAR
VERSION:2.0
PRODID:-//https://calenda-formation.labocleo.org
X-WR-CALNAME:Calenda
X-WR-TIMEZONE:Europe/Paris
CALSCALE:GREGORIAN
X-WR-CALDESC:Le calendrier des lettres et sciences humaines et sociales
METHOD:PUBLISH
BEGIN:VEVENT
DTSTART;VALUE=DATE:20090710
DTEND;VALUE=DATE:20090711
UID:197317-20090710@calenda.revues.org
SUMMARY:Des mondes ordinaires
URL:https://calenda-formation.labocleo.org/197317
DESCRIPTION:Des mondes ordinaires\, premier festival d'anthropologie\, aura lieu les 10\, 11 et 12 juillet 2009 à Hossegor\, Seignosse Le Penon\, Bénesse-Maremne et Sabres\, dans les Landes. À la fois lieu de rencontres\, d'échanges culturels\, de pédagogie et de jeux\, … Más informaciones https://calenda-formation.labocleo.org/197317
LOCATION:Seignosse\, Soorts-Hossegor\, Bénesse-Maremne\, Sabres
END:VEVENT
BEGIN:VEVENT
DTSTART;VALUE=DATE:20090711
DTEND;VALUE=DATE:20090712
UID:197317-20090711@calenda.revues.org
SUMMARY:Des mondes ordinaires
URL:https://calenda-formation.labocleo.org/197317
DESCRIPTION:Des mondes ordinaires\, premier festival d'anthropologie\, aura lieu les 10\, 11 et 12 juillet 2009 à Hossegor\, Seignosse Le Penon\, Bénesse-Maremne et Sabres\, dans les Landes. À la fois lieu de rencontres\, d'échanges culturels\, de pédagogie et de jeux\, … Más informaciones https://calenda-formation.labocleo.org/197317
LOCATION:Seignosse\, Soorts-Hossegor\, Bénesse-Maremne\, Sabres
END:VEVENT
BEGIN:VEVENT
DTSTART;VALUE=DATE:20090712
DTEND;VALUE=DATE:20090713
UID:197317-20090712@calenda.revues.org
SUMMARY:Des mondes ordinaires
URL:https://calenda-formation.labocleo.org/197317
DESCRIPTION:Des mondes ordinaires\, premier festival d'anthropologie\, aura lieu les 10\, 11 et 12 juillet 2009 à Hossegor\, Seignosse Le Penon\, Bénesse-Maremne et Sabres\, dans les Landes. À la fois lieu de rencontres\, d'échanges culturels\, de pédagogie et de jeux\, … Más informaciones https://calenda-formation.labocleo.org/197317
LOCATION:Seignosse\, Soorts-Hossegor\, Bénesse-Maremne\, Sabres
END:VEVENT
END:VCALENDAR
