BEGIN:VCALENDAR
VERSION:2.0
PRODID:-//https://calenda-formation.labocleo.org
X-WR-CALNAME:Calenda
X-WR-TIMEZONE:Europe/Paris
CALSCALE:GREGORIAN
X-WR-CALDESC:Le calendrier des lettres et sciences humaines et sociales
METHOD:PUBLISH
BEGIN:VEVENT
DTSTART;VALUE=DATE:20090731
DTEND;VALUE=DATE:20090801
UID:197373-20090731@calenda.revues.org
SUMMARY:Gallomanie et gallophobie : le mythe français en Europe au XIXe siècle
URL:https://calenda-formation.labocleo.org/197373
DESCRIPTION:Dans le cadre du colloque « Gallomanie et gallophobie »\, nous souhaitons étudier les différentes manifestations de sentiments pro-français et anti-français au cours du XIXe siècle\, dans les textes littéraires\, l’historiographie ou les discours politi… @plus_info https://calenda-formation.labocleo.org/197373
LOCATION:Caen
END:VEVENT
END:VCALENDAR
