BEGIN:VCALENDAR
VERSION:2.0
PRODID:-//https://calenda-formation.labocleo.org
X-WR-CALNAME:Calenda
X-WR-TIMEZONE:Europe/Paris
CALSCALE:GREGORIAN
X-WR-CALDESC:Le calendrier des lettres et sciences humaines et sociales
METHOD:PUBLISH
BEGIN:VEVENT
DTSTART;VALUE=DATE:20090803
DTEND;VALUE=DATE:20090804
UID:197408-20090803@calenda.revues.org
SUMMARY:L'agriculture urbaine pour l'aménagement viable et le développement social des quartiers
URL:https://calenda-formation.labocleo.org/197408
DESCRIPTION:Coordonnée par le rédacteur en chef de VertigO - la revue électronique en sciences de l'environnement\, une première école d’été sur l’agriculture urbaine aura lieu à l’Université du Québec à Montréal du 3 au 7 août 2009. … Más informaciones https://calenda-formation.labocleo.org/197408
LOCATION:Montreal
END:VEVENT
BEGIN:VEVENT
DTSTART;VALUE=DATE:20090804
DTEND;VALUE=DATE:20090805
UID:197408-20090804@calenda.revues.org
SUMMARY:L'agriculture urbaine pour l'aménagement viable et le développement social des quartiers
URL:https://calenda-formation.labocleo.org/197408
DESCRIPTION:Coordonnée par le rédacteur en chef de VertigO - la revue électronique en sciences de l'environnement\, une première école d’été sur l’agriculture urbaine aura lieu à l’Université du Québec à Montréal du 3 au 7 août 2009. … Más informaciones https://calenda-formation.labocleo.org/197408
LOCATION:Montreal
END:VEVENT
BEGIN:VEVENT
DTSTART;VALUE=DATE:20090805
DTEND;VALUE=DATE:20090806
UID:197408-20090805@calenda.revues.org
SUMMARY:L'agriculture urbaine pour l'aménagement viable et le développement social des quartiers
URL:https://calenda-formation.labocleo.org/197408
DESCRIPTION:Coordonnée par le rédacteur en chef de VertigO - la revue électronique en sciences de l'environnement\, une première école d’été sur l’agriculture urbaine aura lieu à l’Université du Québec à Montréal du 3 au 7 août 2009. … Más informaciones https://calenda-formation.labocleo.org/197408
LOCATION:Montreal
END:VEVENT
BEGIN:VEVENT
DTSTART;VALUE=DATE:20090806
DTEND;VALUE=DATE:20090807
UID:197408-20090806@calenda.revues.org
SUMMARY:L'agriculture urbaine pour l'aménagement viable et le développement social des quartiers
URL:https://calenda-formation.labocleo.org/197408
DESCRIPTION:Coordonnée par le rédacteur en chef de VertigO - la revue électronique en sciences de l'environnement\, une première école d’été sur l’agriculture urbaine aura lieu à l’Université du Québec à Montréal du 3 au 7 août 2009. … Más informaciones https://calenda-formation.labocleo.org/197408
LOCATION:Montreal
END:VEVENT
BEGIN:VEVENT
DTSTART;VALUE=DATE:20090807
DTEND;VALUE=DATE:20090808
UID:197408-20090807@calenda.revues.org
SUMMARY:L'agriculture urbaine pour l'aménagement viable et le développement social des quartiers
URL:https://calenda-formation.labocleo.org/197408
DESCRIPTION:Coordonnée par le rédacteur en chef de VertigO - la revue électronique en sciences de l'environnement\, une première école d’été sur l’agriculture urbaine aura lieu à l’Université du Québec à Montréal du 3 au 7 août 2009. … Más informaciones https://calenda-formation.labocleo.org/197408
LOCATION:Montreal
END:VEVENT
END:VCALENDAR
