BEGIN:VCALENDAR
VERSION:2.0
PRODID:-//https://calenda-formation.labocleo.org
X-WR-CALNAME:Calenda
X-WR-TIMEZONE:Europe/Paris
CALSCALE:GREGORIAN
X-WR-CALDESC:Le calendrier des lettres et sciences humaines et sociales
METHOD:PUBLISH
BEGIN:VEVENT
DTSTART;VALUE=DATE:20090615
DTEND;VALUE=DATE:20090616
UID:197413-20090615@calenda.revues.org
SUMMARY:Perception sémiotique et socialité du sens
URL:https://calenda-formation.labocleo.org/197413
DESCRIPTION:Ces deux journées d’échanges entre sciences et philosophies du colloque « Perception sémiotique et socialité du sens » ont notamment pour objectif d'attirer l’attention sur les postulats suivants\, soumis à discussion : (i) la socialité du sens doit ê… Más informaciones https://calenda-formation.labocleo.org/197413
LOCATION:París
END:VEVENT
BEGIN:VEVENT
DTSTART;VALUE=DATE:20090616
DTEND;VALUE=DATE:20090617
UID:197413-20090616@calenda.revues.org
SUMMARY:Perception sémiotique et socialité du sens
URL:https://calenda-formation.labocleo.org/197413
DESCRIPTION:Ces deux journées d’échanges entre sciences et philosophies du colloque « Perception sémiotique et socialité du sens » ont notamment pour objectif d'attirer l’attention sur les postulats suivants\, soumis à discussion : (i) la socialité du sens doit ê… Más informaciones https://calenda-formation.labocleo.org/197413
LOCATION:París
END:VEVENT
END:VCALENDAR
