BEGIN:VCALENDAR
VERSION:2.0
PRODID:-//https://calenda-formation.labocleo.org
X-WR-CALNAME:Calenda
X-WR-TIMEZONE:Europe/Paris
CALSCALE:GREGORIAN
X-WR-CALDESC:Le calendrier des lettres et sciences humaines et sociales
METHOD:PUBLISH
BEGIN:VEVENT
DTSTART;VALUE=DATE:20091001
DTEND;VALUE=DATE:20091002
UID:197455-20091001@calenda.revues.org
SUMMARY:Le financement des services publics locaux : enjeux et perspectives
URL:https://calenda-formation.labocleo.org/197455
DESCRIPTION:La crise actuelle est venue requestionner les modes de gestion et la problématique du financement du service public local. Le but de cette manifestation est  de s'interroger sur les choix à la fois gestionnaires ( choix entre impôt et tarif\, incidenc… Más informaciones https://calenda-formation.labocleo.org/197455
LOCATION:Angers
END:VEVENT
END:VCALENDAR
