BEGIN:VCALENDAR
VERSION:2.0
PRODID:-//https://calenda-formation.labocleo.org
X-WR-CALNAME:Calenda
X-WR-TIMEZONE:Europe/Paris
CALSCALE:GREGORIAN
X-WR-CALDESC:Le calendrier des lettres et sciences humaines et sociales
METHOD:PUBLISH
BEGIN:VEVENT
DTSTART;VALUE=DATE:20090724
DTEND;VALUE=DATE:20090725
UID:197479-20090724@calenda.revues.org
SUMMARY:Generation to Reproduction : Three job opportunities in Cambridge
URL:https://calenda-formation.labocleo.org/197479
DESCRIPTION:As part of a 5-year Wellcome strategic award in the history of medicine on the theme 'Generation to Reproduction'\, the Department seeks to appoint to three positions\, available from 1 October 2009.… Más informaciones https://calenda-formation.labocleo.org/197479
LOCATION:Cambridge
END:VEVENT
END:VCALENDAR
