BEGIN:VCALENDAR
VERSION:2.0
PRODID:-//https://calenda-formation.labocleo.org
X-WR-CALNAME:Calenda
X-WR-TIMEZONE:Europe/Paris
CALSCALE:GREGORIAN
X-WR-CALDESC:Le calendrier des lettres et sciences humaines et sociales
METHOD:PUBLISH
BEGIN:VEVENT
DTSTART;VALUE=DATE:20090930
DTEND;VALUE=DATE:20091001
UID:197493-20090930@calenda.revues.org
SUMMARY:Travail et mémoire
URL:https://calenda-formation.labocleo.org/197493
DESCRIPTION:Ce numéro s’attachera à explorer les modes de reconstruction par la mémoire des formes de travail (au sens le plus large). Par formes de travail\, nous entendons tout ce qui a trait au contenu et à l’objet du travail\, mais aussi au cadre de travail\, a… Weitere Informationen https://calenda-formation.labocleo.org/197493
LOCATION:
END:VEVENT
END:VCALENDAR
