BEGIN:VCALENDAR
VERSION:2.0
PRODID:-//https://calenda-formation.labocleo.org
X-WR-CALNAME:Calenda
X-WR-TIMEZONE:Europe/Paris
CALSCALE:GREGORIAN
X-WR-CALDESC:O calendário de letras e de ciências sociais e humanas
METHOD:PUBLISH
BEGIN:VEVENT
DTSTART;VALUE=DATE:20090925
DTEND;VALUE=DATE:20090926
UID:197509-20090925@calenda.revues.org
SUMMARY:Chypre à l’époque hellénistique et impériale
URL:https://calenda-formation.labocleo.org/197509
DESCRIPTION:Le Centre d’Études Chypriotes\, en collaboration avec l’Unité Mixte de Recherches Archéologies et Sciences de l’Antiquité (ArScAn\, CNRS\, Université de Paris I\, Université de Paris Ouest\, Ministère de la Culture) et l’Université de Chypre\, organisera u… @plus_info https://calenda-formation.labocleo.org/197509
LOCATION:Nanterre\, Paris
END:VEVENT
BEGIN:VEVENT
DTSTART;VALUE=DATE:20090926
DTEND;VALUE=DATE:20090927
UID:197509-20090926@calenda.revues.org
SUMMARY:Chypre à l’époque hellénistique et impériale
URL:https://calenda-formation.labocleo.org/197509
DESCRIPTION:Le Centre d’Études Chypriotes\, en collaboration avec l’Unité Mixte de Recherches Archéologies et Sciences de l’Antiquité (ArScAn\, CNRS\, Université de Paris I\, Université de Paris Ouest\, Ministère de la Culture) et l’Université de Chypre\, organisera u… @plus_info https://calenda-formation.labocleo.org/197509
LOCATION:Nanterre\, Paris
END:VEVENT
END:VCALENDAR
