BEGIN:VCALENDAR
VERSION:2.0
PRODID:-//https://calenda-formation.labocleo.org
X-WR-CALNAME:Calenda
X-WR-TIMEZONE:Europe/Paris
CALSCALE:GREGORIAN
X-WR-CALDESC:The calendar for arts, humanities and social sciences
METHOD:PUBLISH
BEGIN:VEVENT
DTSTART;VALUE=DATE:20040831
DTEND;VALUE=DATE:20040901
UID:197562-20040831@calenda.revues.org
SUMMARY:Revue Sociologie du travail - Prix du jeune auteur
URL:https://calenda-formation.labocleo.org/197562
DESCRIPTION:La revue Sociologie du travail a créé il y a trois ans un prix annuel\, pour des jeunes auteurs âgés de moins de 31 ans. Les trois jeunes auteurs primés annuellement reçoivent une (modeste) dotation financière\, mais surtout sont publiés dans un n° spé… @plus_info https://calenda-formation.labocleo.org/197562
LOCATION:
END:VEVENT
END:VCALENDAR
