BEGIN:VCALENDAR
VERSION:2.0
PRODID:-//https://calenda-formation.labocleo.org
X-WR-CALNAME:Calenda
X-WR-TIMEZONE:Europe/Paris
CALSCALE:GREGORIAN
X-WR-CALDESC:Le calendrier des lettres et sciences humaines et sociales
METHOD:PUBLISH
BEGIN:VEVENT
DTSTART;VALUE=DATE:20040518
DTEND;VALUE=DATE:20040519
UID:197609-20040518@calenda.revues.org
SUMMARY:La dualisation de la structure sociale américaine
URL:https://calenda-formation.labocleo.org/197609
DESCRIPTION:Rencontre avec E.O. Wright\, Paris\, mardi 18 mai 2004\, 17h-19h… @plus_info https://calenda-formation.labocleo.org/197609
LOCATION:Paris
END:VEVENT
END:VCALENDAR
