BEGIN:VCALENDAR
VERSION:2.0
PRODID:-//https://calenda-formation.labocleo.org
X-WR-CALNAME:Calenda
X-WR-TIMEZONE:Europe/Paris
CALSCALE:GREGORIAN
X-WR-CALDESC:The calendar for arts, humanities and social sciences
METHOD:PUBLISH
BEGIN:VEVENT
DTSTART;VALUE=DATE:20050107
DTEND;VALUE=DATE:20050108
UID:197666-20050107@calenda.revues.org
SUMMARY:7ème Colloque du CEETUM pour étudiant(e)s et nouveaux chercheurs
URL:https://calenda-formation.labocleo.org/197666
DESCRIPTION:Appel à communications\, Université de Montréal (Québec)\, 24-25 février 2005 Nous invitons tous les étudiant(e)s des cycles supérieurs et les récents diplômé(e)s dont les recherches s'inscrivent dans le domaine des relations ethniques à participer à c… @plus_info https://calenda-formation.labocleo.org/197666
LOCATION:Montreal
END:VEVENT
END:VCALENDAR
