BEGIN:VCALENDAR
VERSION:2.0
PRODID:-//https://calenda-formation.labocleo.org
X-WR-CALNAME:Calenda
X-WR-TIMEZONE:Europe/Paris
CALSCALE:GREGORIAN
X-WR-CALDESC:The calendar for arts, humanities and social sciences
METHOD:PUBLISH
BEGIN:VEVENT
DTSTART;VALUE=DATE:20041207
DTEND;VALUE=DATE:20041208
UID:197677-20041207@calenda.revues.org
SUMMARY:La frénésie alimentaire en question
URL:https://calenda-formation.labocleo.org/197677
DESCRIPTION:L'association « Qu'on vive ! » vous propose une rencontre-débat dans le cadre de son Café-socio\, autour du thème : « Frénésie alimentaire\, notre consommation en question ». Débat-conférence (autour d'un verre)\, Grenoble\, Café des Arts\, 7 décembre 200… @plus_info https://calenda-formation.labocleo.org/197677
LOCATION:Grenoble
END:VEVENT
END:VCALENDAR
