BEGIN:VCALENDAR
VERSION:2.0
PRODID:-//https://calenda-formation.labocleo.org
X-WR-CALNAME:Calenda
X-WR-TIMEZONE:Europe/Paris
CALSCALE:GREGORIAN
X-WR-CALDESC:Le calendrier des lettres et sciences humaines et sociales
METHOD:PUBLISH
BEGIN:VEVENT
DTSTART;VALUE=DATE:20050416
DTEND;VALUE=DATE:20050417
UID:197747-20050416@calenda.revues.org
SUMMARY:La décision en Politique urbaine 
URL:https://calenda-formation.labocleo.org/197747
DESCRIPTION:Forum à la FNAC de Bordeaux\, samedi 16 avril 2005 à 15h.… Weitere Informationen https://calenda-formation.labocleo.org/197747
LOCATION:Bordeaux
END:VEVENT
END:VCALENDAR
