BEGIN:VCALENDAR
VERSION:2.0
PRODID:-//https://calenda-formation.labocleo.org
X-WR-CALNAME:Calenda
X-WR-TIMEZONE:Europe/Paris
CALSCALE:GREGORIAN
X-WR-CALDESC:Le calendrier des lettres et sciences humaines et sociales
METHOD:PUBLISH
BEGIN:VEVENT
DTSTART;VALUE=DATE:20051019
DTEND;VALUE=DATE:20051020
UID:197793-20051019@calenda.revues.org
SUMMARY:Les mercredis de la psychanalyse
URL:https://calenda-formation.labocleo.org/197793
DESCRIPTION:Cycle de conférences les « mercredis de la psychanalyse » pour entendre et discuter du point de vue de psychanalystes.… Weitere Informationen https://calenda-formation.labocleo.org/197793
LOCATION:Nanterre
END:VEVENT
BEGIN:VEVENT
DTSTART;VALUE=DATE:20051109
DTEND;VALUE=DATE:20051110
UID:197793-20051109@calenda.revues.org
SUMMARY:Les mercredis de la psychanalyse
URL:https://calenda-formation.labocleo.org/197793
DESCRIPTION:Cycle de conférences les « mercredis de la psychanalyse » pour entendre et discuter du point de vue de psychanalystes.… Weitere Informationen https://calenda-formation.labocleo.org/197793
LOCATION:Nanterre
END:VEVENT
BEGIN:VEVENT
DTSTART;VALUE=DATE:20051116
DTEND;VALUE=DATE:20051117
UID:197793-20051116@calenda.revues.org
SUMMARY:Les mercredis de la psychanalyse
URL:https://calenda-formation.labocleo.org/197793
DESCRIPTION:Cycle de conférences les « mercredis de la psychanalyse » pour entendre et discuter du point de vue de psychanalystes.… Weitere Informationen https://calenda-formation.labocleo.org/197793
LOCATION:Nanterre
END:VEVENT
BEGIN:VEVENT
DTSTART;VALUE=DATE:20051123
DTEND;VALUE=DATE:20051124
UID:197793-20051123@calenda.revues.org
SUMMARY:Les mercredis de la psychanalyse
URL:https://calenda-formation.labocleo.org/197793
DESCRIPTION:Cycle de conférences les « mercredis de la psychanalyse » pour entendre et discuter du point de vue de psychanalystes.… Weitere Informationen https://calenda-formation.labocleo.org/197793
LOCATION:Nanterre
END:VEVENT
BEGIN:VEVENT
DTSTART;VALUE=DATE:20051215
DTEND;VALUE=DATE:20051216
UID:197793-20051215@calenda.revues.org
SUMMARY:Les mercredis de la psychanalyse
URL:https://calenda-formation.labocleo.org/197793
DESCRIPTION:Cycle de conférences les « mercredis de la psychanalyse » pour entendre et discuter du point de vue de psychanalystes.… Weitere Informationen https://calenda-formation.labocleo.org/197793
LOCATION:Nanterre
END:VEVENT
BEGIN:VEVENT
DTSTART;VALUE=DATE:20060111
DTEND;VALUE=DATE:20060112
UID:197793-20060111@calenda.revues.org
SUMMARY:Les mercredis de la psychanalyse
URL:https://calenda-formation.labocleo.org/197793
DESCRIPTION:Cycle de conférences les « mercredis de la psychanalyse » pour entendre et discuter du point de vue de psychanalystes.… Weitere Informationen https://calenda-formation.labocleo.org/197793
LOCATION:Nanterre
END:VEVENT
BEGIN:VEVENT
DTSTART;VALUE=DATE:20060118
DTEND;VALUE=DATE:20060119
UID:197793-20060118@calenda.revues.org
SUMMARY:Les mercredis de la psychanalyse
URL:https://calenda-formation.labocleo.org/197793
DESCRIPTION:Cycle de conférences les « mercredis de la psychanalyse » pour entendre et discuter du point de vue de psychanalystes.… Weitere Informationen https://calenda-formation.labocleo.org/197793
LOCATION:Nanterre
END:VEVENT
BEGIN:VEVENT
DTSTART;VALUE=DATE:20060125
DTEND;VALUE=DATE:20060126
UID:197793-20060125@calenda.revues.org
SUMMARY:Les mercredis de la psychanalyse
URL:https://calenda-formation.labocleo.org/197793
DESCRIPTION:Cycle de conférences les « mercredis de la psychanalyse » pour entendre et discuter du point de vue de psychanalystes.… Weitere Informationen https://calenda-formation.labocleo.org/197793
LOCATION:Nanterre
END:VEVENT
BEGIN:VEVENT
DTSTART;VALUE=DATE:20060308
DTEND;VALUE=DATE:20060309
UID:197793-20060308@calenda.revues.org
SUMMARY:Les mercredis de la psychanalyse
URL:https://calenda-formation.labocleo.org/197793
DESCRIPTION:Cycle de conférences les « mercredis de la psychanalyse » pour entendre et discuter du point de vue de psychanalystes.… Weitere Informationen https://calenda-formation.labocleo.org/197793
LOCATION:Nanterre
END:VEVENT
BEGIN:VEVENT
DTSTART;VALUE=DATE:20060315
DTEND;VALUE=DATE:20060316
UID:197793-20060315@calenda.revues.org
SUMMARY:Les mercredis de la psychanalyse
URL:https://calenda-formation.labocleo.org/197793
DESCRIPTION:Cycle de conférences les « mercredis de la psychanalyse » pour entendre et discuter du point de vue de psychanalystes.… Weitere Informationen https://calenda-formation.labocleo.org/197793
LOCATION:Nanterre
END:VEVENT
BEGIN:VEVENT
DTSTART;VALUE=DATE:20060405
DTEND;VALUE=DATE:20060406
UID:197793-20060405@calenda.revues.org
SUMMARY:Les mercredis de la psychanalyse
URL:https://calenda-formation.labocleo.org/197793
DESCRIPTION:Cycle de conférences les « mercredis de la psychanalyse » pour entendre et discuter du point de vue de psychanalystes.… Weitere Informationen https://calenda-formation.labocleo.org/197793
LOCATION:Nanterre
END:VEVENT
BEGIN:VEVENT
DTSTART;VALUE=DATE:20060614
DTEND;VALUE=DATE:20060615
UID:197793-20060614@calenda.revues.org
SUMMARY:Les mercredis de la psychanalyse
URL:https://calenda-formation.labocleo.org/197793
DESCRIPTION:Cycle de conférences les « mercredis de la psychanalyse » pour entendre et discuter du point de vue de psychanalystes.… Weitere Informationen https://calenda-formation.labocleo.org/197793
LOCATION:Nanterre
END:VEVENT
END:VCALENDAR
