BEGIN:VCALENDAR
VERSION:2.0
PRODID:-//https://calenda-formation.labocleo.org
X-WR-CALNAME:Calenda
X-WR-TIMEZONE:Europe/Paris
CALSCALE:GREGORIAN
X-WR-CALDESC:O calendário de letras e de ciências sociais e humanas
METHOD:PUBLISH
BEGIN:VEVENT
DTSTART;VALUE=DATE:20060228
DTEND;VALUE=DATE:20060301
UID:197860-20060228@calenda.revues.org
SUMMARY:Chargé de recherche en sociologie à l'INRA
URL:https://calenda-formation.labocleo.org/197860
DESCRIPTION:Le poste proposé s’inscrit dans les recherches portant sur l’évolution des relations entre science\, technique et société et sur les risques collectifs\, et plus précisément au croisement de deux thèmes prioritaires. Il s’agit des risques alimentaires … @plus_info https://calenda-formation.labocleo.org/197860
LOCATION:Ivry-sur-Seine
END:VEVENT
END:VCALENDAR
