BEGIN:VCALENDAR
VERSION:2.0
PRODID:-//https://calenda-formation.labocleo.org
X-WR-CALNAME:Calenda
X-WR-TIMEZONE:Europe/Paris
CALSCALE:GREGORIAN
X-WR-CALDESC:Le calendrier des lettres et sciences humaines et sociales
METHOD:PUBLISH
BEGIN:VEVENT
DTSTART;VALUE=DATE:20060130
DTEND;VALUE=DATE:20060131
UID:197863-20060130@calenda.revues.org
SUMMARY:Pratiques d'enquête : traitement statistique et sociologique des questionnaires
URL:https://calenda-formation.labocleo.org/197863
DESCRIPTION:La Faculté de sociologie de Lyon 2 recherche des vacataires pour des TD de pratiques d’enquête (traitement statistique et sociologique de questionnaires). Les TD en question ont lieu le lundi\, à partir du 30 janvier (inclus). Vacations à l'Université… Más informaciones https://calenda-formation.labocleo.org/197863
LOCATION:Lyon
END:VEVENT
END:VCALENDAR
