BEGIN:VCALENDAR
VERSION:2.0
PRODID:-//https://calenda-formation.labocleo.org
X-WR-CALNAME:Calenda
X-WR-TIMEZONE:Europe/Paris
CALSCALE:GREGORIAN
X-WR-CALDESC:O calendário de letras e de ciências sociais e humanas
METHOD:PUBLISH
BEGIN:VEVENT
DTSTART;VALUE=DATE:20060228
DTEND;VALUE=DATE:20060301
UID:197894-20060228@calenda.revues.org
SUMMARY:Travail\, organisations\, emploi
URL:https://calenda-formation.labocleo.org/197894
DESCRIPTION:Appel à communications\, AFS\, RT25\, Congrès de l'AFS\, Bordeaux\, septembre 2006.… @plus_info https://calenda-formation.labocleo.org/197894
LOCATION:Bordéus
END:VEVENT
END:VCALENDAR
