BEGIN:VCALENDAR
VERSION:2.0
PRODID:-//https://calenda-formation.labocleo.org
X-WR-CALNAME:Calenda
X-WR-TIMEZONE:Europe/Paris
CALSCALE:GREGORIAN
X-WR-CALDESC:Le calendrier des lettres et sciences humaines et sociales
METHOD:PUBLISH
BEGIN:VEVENT
DTSTART;VALUE=DATE:20060330
DTEND;VALUE=DATE:20060331
UID:197925-20060330@calenda.revues.org
SUMMARY:Professeur en philosophie politique et démographie / sociologie
URL:https://calenda-formation.labocleo.org/197925
DESCRIPTION:Le département de sciences sociales recrute un professeur en philosophie politique\, en démographie ou en sociologie politique. Ce poste\, ouvert aux candidats des sections 17 et 19\, est orienté vers l’enseignement et la recherche dans le domaine des s… Más informaciones https://calenda-formation.labocleo.org/197925
LOCATION:París
END:VEVENT
END:VCALENDAR
