BEGIN:VCALENDAR
VERSION:2.0
PRODID:-//https://calenda-formation.labocleo.org
X-WR-CALNAME:Calenda
X-WR-TIMEZONE:Europe/Paris
CALSCALE:GREGORIAN
X-WR-CALDESC:O calendário de letras e de ciências sociais e humanas
METHOD:PUBLISH
BEGIN:VEVENT
DTSTART;VALUE=DATE:20070115
DTEND;VALUE=DATE:20070116
UID:198053-20070115@calenda.revues.org
SUMMARY:Politics of Rebellion. Complexity and Hybridity of Political Behaviors in Organizations.
URL:https://calenda-formation.labocleo.org/198053
DESCRIPTION:23ème colloque d'EGOS\, Vienne\, du 5-7 juillet 2007… @plus_info https://calenda-formation.labocleo.org/198053
LOCATION:Vienne
END:VEVENT
END:VCALENDAR
