BEGIN:VCALENDAR
VERSION:2.0
PRODID:-//https://calenda-formation.labocleo.org
X-WR-CALNAME:Calenda
X-WR-TIMEZONE:Europe/Paris
CALSCALE:GREGORIAN
X-WR-CALDESC:Le calendrier des lettres et sciences humaines et sociales
METHOD:PUBLISH
BEGIN:VEVENT
DTSTART;VALUE=DATE:20070330
DTEND;VALUE=DATE:20070331
UID:198090-20070330@calenda.revues.org
SUMMARY:Sciences humaines et sociales et Lutte contre le Cancer
URL:https://calenda-formation.labocleo.org/198090
DESCRIPTION:Colloque\, Boulogne-Billancourt\, 14-15 juin 2007… @plus_info https://calenda-formation.labocleo.org/198090
LOCATION:Boulogne-Billancourt
END:VEVENT
END:VCALENDAR
