BEGIN:VCALENDAR
VERSION:2.0
PRODID:-//https://calenda-formation.labocleo.org
X-WR-CALNAME:Calenda
X-WR-TIMEZONE:Europe/Paris
CALSCALE:GREGORIAN
X-WR-CALDESC:Le calendrier des lettres et sciences humaines et sociales
METHOD:PUBLISH
BEGIN:VEVENT
DTSTART;VALUE=DATE:20070403
DTEND;VALUE=DATE:20070404
UID:198127-20070403@calenda.revues.org
SUMMARY:Immigration et marché du travail : un siècle d'histoire imbriquée
URL:https://calenda-formation.labocleo.org/198127
DESCRIPTION:Conférence publique\, Montpellier\, centre Lacordaire\, 3 avril 2007\, 17h30. L'ISCRA-Méditerranée organise\, en collaboration avec la revue Hommes et Migrations\, une univers-cité des savoirs impliqués\, autour du thème « immigration et marché du travail »… @plus_info https://calenda-formation.labocleo.org/198127
LOCATION:Montpellier
END:VEVENT
END:VCALENDAR
