BEGIN:VCALENDAR
VERSION:2.0
PRODID:-//https://calenda-formation.labocleo.org
X-WR-CALNAME:Calenda
X-WR-TIMEZONE:Europe/Paris
CALSCALE:GREGORIAN
X-WR-CALDESC:The calendar for arts, humanities and social sciences
METHOD:PUBLISH
BEGIN:VEVENT
DTSTART;VALUE=DATE:20070416
DTEND;VALUE=DATE:20070417
UID:198128-20070416@calenda.revues.org
SUMMARY:Poste de professeur-e assistant-e en ethnologie
URL:https://calenda-formation.labocleo.org/198128
DESCRIPTION:Un poste de professeur-e assistant-e en ethnologie / anthropologie sociale et culturelle est mis au concours à l’Institut d’ethnologie de l’Université de Neuchâtel.… @plus_info https://calenda-formation.labocleo.org/198128
LOCATION:Neuchâtel
END:VEVENT
END:VCALENDAR
