BEGIN:VCALENDAR
VERSION:2.0
PRODID:-//https://calenda-formation.labocleo.org
X-WR-CALNAME:Calenda
X-WR-TIMEZONE:Europe/Paris
CALSCALE:GREGORIAN
X-WR-CALDESC:The calendar for arts, humanities and social sciences
METHOD:PUBLISH
BEGIN:VEVENT
DTSTART;VALUE=DATE:20070925
DTEND;VALUE=DATE:20070926
UID:198184-20070925@calenda.revues.org
SUMMARY:Agents des services publics face au(x) politique(s) : recrutements\, carrières\, pratiques professionnelles 
URL:https://calenda-formation.labocleo.org/198184
DESCRIPTION:Journée d'études doctorale\, mardi 25 septembre 2007\, École Normale Supérieure\, Campus Jourdan\, Paris … @plus_info https://calenda-formation.labocleo.org/198184
LOCATION:Paris
END:VEVENT
END:VCALENDAR
