BEGIN:VCALENDAR
VERSION:2.0
PRODID:-//https://calenda-formation.labocleo.org
X-WR-CALNAME:Calenda
X-WR-TIMEZONE:Europe/Paris
CALSCALE:GREGORIAN
X-WR-CALDESC:Le calendrier des lettres et sciences humaines et sociales
METHOD:PUBLISH
BEGIN:VEVENT
DTSTART;VALUE=DATE:20071121
DTEND;VALUE=DATE:20071122
UID:198208-20071121@calenda.revues.org
SUMMARY:Mercredis de la bibliothèque de l'Institut national de la recherche pédagogique
URL:https://calenda-formation.labocleo.org/198208
DESCRIPTION:Permettre à différents acteurs de la communauté éducative d'échanger en toute liberté\, faire le lien entre la recherche en éducation et le grand public\, tels sont les objectifs du cycle de rencontres.… Weitere Informationen https://calenda-formation.labocleo.org/198208
LOCATION:Lyon
END:VEVENT
BEGIN:VEVENT
DTSTART;VALUE=DATE:20080319
DTEND;VALUE=DATE:20080320
UID:198208-20080319@calenda.revues.org
SUMMARY:Mercredis de la bibliothèque de l'Institut national de la recherche pédagogique
URL:https://calenda-formation.labocleo.org/198208
DESCRIPTION:Permettre à différents acteurs de la communauté éducative d'échanger en toute liberté\, faire le lien entre la recherche en éducation et le grand public\, tels sont les objectifs du cycle de rencontres.… Weitere Informationen https://calenda-formation.labocleo.org/198208
LOCATION:Lyon
END:VEVENT
BEGIN:VEVENT
DTSTART;VALUE=DATE:20080123
DTEND;VALUE=DATE:20080124
UID:198208-20080123@calenda.revues.org
SUMMARY:Mercredis de la bibliothèque de l'Institut national de la recherche pédagogique
URL:https://calenda-formation.labocleo.org/198208
DESCRIPTION:Permettre à différents acteurs de la communauté éducative d'échanger en toute liberté\, faire le lien entre la recherche en éducation et le grand public\, tels sont les objectifs du cycle de rencontres.… Weitere Informationen https://calenda-formation.labocleo.org/198208
LOCATION:Lyon
END:VEVENT
BEGIN:VEVENT
DTSTART;VALUE=DATE:20080514
DTEND;VALUE=DATE:20080515
UID:198208-20080514@calenda.revues.org
SUMMARY:Mercredis de la bibliothèque de l'Institut national de la recherche pédagogique
URL:https://calenda-formation.labocleo.org/198208
DESCRIPTION:Permettre à différents acteurs de la communauté éducative d'échanger en toute liberté\, faire le lien entre la recherche en éducation et le grand public\, tels sont les objectifs du cycle de rencontres.… Weitere Informationen https://calenda-formation.labocleo.org/198208
LOCATION:Lyon
END:VEVENT
BEGIN:VEVENT
DTSTART;VALUE=DATE:20080213
DTEND;VALUE=DATE:20080214
UID:198208-20080213@calenda.revues.org
SUMMARY:Mercredis de la bibliothèque de l'Institut national de la recherche pédagogique
URL:https://calenda-formation.labocleo.org/198208
DESCRIPTION:Permettre à différents acteurs de la communauté éducative d'échanger en toute liberté\, faire le lien entre la recherche en éducation et le grand public\, tels sont les objectifs du cycle de rencontres.… Weitere Informationen https://calenda-formation.labocleo.org/198208
LOCATION:Lyon
END:VEVENT
END:VCALENDAR
