BEGIN:VCALENDAR
VERSION:2.0
PRODID:-//https://calenda-formation.labocleo.org
X-WR-CALNAME:Calenda
X-WR-TIMEZONE:Europe/Paris
CALSCALE:GREGORIAN
X-WR-CALDESC:Le calendrier des lettres et sciences humaines et sociales
METHOD:PUBLISH
BEGIN:VEVENT
DTSTART;VALUE=DATE:20071215
DTEND;VALUE=DATE:20071216
UID:198215-20071215@calenda.revues.org
SUMMARY:Offre de stage : réalisation d'une enquête sur les besoins de formation des enseignants-chercheurs
URL:https://calenda-formation.labocleo.org/198215
DESCRIPTION:Le CIPE (Centre d'innovation pédagogique et d'évaluation) de l'Université de Bourgogne recherche un stagiaire pour une période de 3 à 6 mois en 2008.… Más informaciones https://calenda-formation.labocleo.org/198215
LOCATION:Dijon
END:VEVENT
END:VCALENDAR
