BEGIN:VCALENDAR
VERSION:2.0
PRODID:-//https://calenda-formation.labocleo.org
X-WR-CALNAME:Calenda
X-WR-TIMEZONE:Europe/Paris
CALSCALE:GREGORIAN
X-WR-CALDESC:Le calendrier des lettres et sciences humaines et sociales
METHOD:PUBLISH
BEGIN:VEVENT
DTSTART;VALUE=DATE:20071108
DTEND;VALUE=DATE:20071109
UID:198269-20071108@calenda.revues.org
SUMMARY:Les controverses technologiques de l'INSA de Lyon
URL:https://calenda-formation.labocleo.org/198269
DESCRIPTION:Les lecteurs-débatteurs ont pour objectif d’identifier\, pour chaque contribution\, les enjeux sous-tendus par les recherches menées au sein de l’INSA. La discussion s’engagera à partir des réactions de chaque lecteurs-débatteurs. Colloque\, Lyon\, jeudi… @plus_info https://calenda-formation.labocleo.org/198269
LOCATION:Villeurbanne
END:VEVENT
END:VCALENDAR
