BEGIN:VCALENDAR
VERSION:2.0
PRODID:-//https://calenda-formation.labocleo.org
X-WR-CALNAME:Calenda
X-WR-TIMEZONE:Europe/Paris
CALSCALE:GREGORIAN
X-WR-CALDESC:The calendar for arts, humanities and social sciences
METHOD:PUBLISH
BEGIN:VEVENT
DTSTART;VALUE=DATE:20080513
DTEND;VALUE=DATE:20080514
UID:198407-20080513@calenda.revues.org
SUMMARY:S'impliquer : réflexions épistémologiques et méthodologiques sur l'observation participante
URL:https://calenda-formation.labocleo.org/198407
DESCRIPTION:Colloque international\, Bruxelles\, du 13 au 16 mai 2008… @plus_info https://calenda-formation.labocleo.org/198407
LOCATION:Brussels
END:VEVENT
BEGIN:VEVENT
DTSTART;VALUE=DATE:20080514
DTEND;VALUE=DATE:20080515
UID:198407-20080514@calenda.revues.org
SUMMARY:S'impliquer : réflexions épistémologiques et méthodologiques sur l'observation participante
URL:https://calenda-formation.labocleo.org/198407
DESCRIPTION:Colloque international\, Bruxelles\, du 13 au 16 mai 2008… @plus_info https://calenda-formation.labocleo.org/198407
LOCATION:Brussels
END:VEVENT
BEGIN:VEVENT
DTSTART;VALUE=DATE:20080515
DTEND;VALUE=DATE:20080516
UID:198407-20080515@calenda.revues.org
SUMMARY:S'impliquer : réflexions épistémologiques et méthodologiques sur l'observation participante
URL:https://calenda-formation.labocleo.org/198407
DESCRIPTION:Colloque international\, Bruxelles\, du 13 au 16 mai 2008… @plus_info https://calenda-formation.labocleo.org/198407
LOCATION:Brussels
END:VEVENT
BEGIN:VEVENT
DTSTART;VALUE=DATE:20080816
DTEND;VALUE=DATE:20080817
UID:198407-20080816@calenda.revues.org
SUMMARY:S'impliquer : réflexions épistémologiques et méthodologiques sur l'observation participante
URL:https://calenda-formation.labocleo.org/198407
DESCRIPTION:Colloque international\, Bruxelles\, du 13 au 16 mai 2008… @plus_info https://calenda-formation.labocleo.org/198407
LOCATION:Brussels
END:VEVENT
END:VCALENDAR
