BEGIN:VCALENDAR
VERSION:2.0
PRODID:-//https://calenda-formation.labocleo.org
X-WR-CALNAME:Calenda
X-WR-TIMEZONE:Europe/Paris
CALSCALE:GREGORIAN
X-WR-CALDESC:Le calendrier des lettres et sciences humaines et sociales
METHOD:PUBLISH
BEGIN:VEVENT
DTSTART;VALUE=DATE:20081017
DTEND;VALUE=DATE:20081018
UID:198480-20081017@calenda.revues.org
SUMMARY:La clinique au quotidien de la question sociale
URL:https://calenda-formation.labocleo.org/198480
DESCRIPTION:Journée d'étude\, Genève\, 17 octobre 2008\, de 9h à 16h30… Weitere Informationen https://calenda-formation.labocleo.org/198480
LOCATION:Genf
END:VEVENT
END:VCALENDAR
