BEGIN:VCALENDAR
VERSION:2.0
PRODID:-//https://calenda-formation.labocleo.org
X-WR-CALNAME:Calenda
X-WR-TIMEZONE:Europe/Paris
CALSCALE:GREGORIAN
X-WR-CALDESC:Le calendrier des lettres et sciences humaines et sociales
METHOD:PUBLISH
BEGIN:VEVENT
DTSTART;VALUE=DATE:20081204
DTEND;VALUE=DATE:20081205
UID:198555-20081204@calenda.revues.org
SUMMARY:Toréer sans la mort ?
URL:https://calenda-formation.labocleo.org/198555
DESCRIPTION:Colloque\, Paris\, 4-5 décembre 2008… @plus_info https://calenda-formation.labocleo.org/198555
LOCATION:Paris
END:VEVENT
BEGIN:VEVENT
DTSTART;VALUE=DATE:20081205
DTEND;VALUE=DATE:20081206
UID:198555-20081205@calenda.revues.org
SUMMARY:Toréer sans la mort ?
URL:https://calenda-formation.labocleo.org/198555
DESCRIPTION:Colloque\, Paris\, 4-5 décembre 2008… @plus_info https://calenda-formation.labocleo.org/198555
LOCATION:Paris
END:VEVENT
END:VCALENDAR
