BEGIN:VCALENDAR
VERSION:2.0
PRODID:-//https://calenda-formation.labocleo.org
X-WR-CALNAME:Calenda
X-WR-TIMEZONE:Europe/Paris
CALSCALE:GREGORIAN
X-WR-CALDESC:The calendar for arts, humanities and social sciences
METHOD:PUBLISH
BEGIN:VEVENT
DTSTART;VALUE=DATE:20090301
DTEND;VALUE=DATE:20090302
UID:198580-20090301@calenda.revues.org
SUMMARY:Entre plaisir et contrainte :  nouvelles questions sur la sexualité des femmes 
URL:https://calenda-formation.labocleo.org/198580
DESCRIPTION:Appel à contributions de la revue "Nouvelles Questions Féministes"  … @plus_info https://calenda-formation.labocleo.org/198580
LOCATION:
END:VEVENT
END:VCALENDAR
